BEGIN:VCALENDAR
VERSION:2.0
PRODID:-//wp-events-plugin.com//7.2.3.1//EN
BEGIN:VEVENT
UID:93@spoe-hernstein.at
DTSTART:20241006T080000Z
DTEND:20241006T170000Z
DTSTAMP:20241002T175605Z
URL:https://www.spoe-hernstein.at/events/12-hernsteiner-strudelheuriger/
SUMMARY:12. Hernsteiner Strudelheuriger
DESCRIPTION:
ATTACH;FMTTYPE=image/jpeg:https://www.spoe-hernstein.at/wp-content/uploads
 /2024/10/image0-5.jpeg
CATEGORIES:Strudelheuriger
LOCATION:Volksheim Hernstein\, Kirchensteig 2\, Hernstein\, Niederösterrei
 ch\, 2561\, Österreich
GEO:47.893079;16.108962
X-APPLE-STRUCTURED-LOCATION;VALUE=URI;X-ADDRESS=Kirchensteig 2\, Hernstein\
 , Niederösterreich\, 2561\, Österreich;X-APPLE-RADIUS=100;X-TITLE=Volksh
 eim Hernstein:geo:47.893079,16.108962
END:VEVENT
END:VCALENDAR