BEGIN:VCALENDAR
VERSION:2.0
PRODID:-//wp-events-plugin.com//7.2.3.1//EN
BEGIN:VEVENT
UID:74@spoe-hernstein.at
DTSTART:20210821T180000Z
DTEND:20210821T210000Z
DTSTAMP:20210807T162527Z
URL:https://www.spoe-hernstein.at/events/sommerkino/
SUMMARY:Sommerkino
DESCRIPTION:\n\nOpen Air bei FF Haus Hernstein - LOVE MACHINE 2019\nAm 21.0
 8.2021 um 19:30 (Einlass 18:30)\, Eintritt € 5\,-\nFür Gertränke und P
 opkorn wird gesorgt!\nBei Schlechtwetter wird die Veranstaltung im FF-Haus
  durchgeführt.\nBitte habt Verständnis\, dass eine Teilnahme nur unter E
 inhaltung der geltenden Corona-Maßnahmen (3 G-Regel) möglich ist.\nAlter
 sfreigabe: FSK 12
END:VEVENT
END:VCALENDAR